



BEGIN:VCALENDAR
VERSION:2.0
PRODID:-//JSMW - ECPv6.15.20//NONSGML v1.0//EN
CALSCALE:GREGORIAN
METHOD:PUBLISH
X-WR-CALNAME:JSMW
X-ORIGINAL-URL:https://www.jsmw.org
X-WR-CALDESC:Events for JSMW
REFRESH-INTERVAL;VALUE=DURATION:PT1H
X-Robots-Tag:noindex
X-PUBLISHED-TTL:PT1H
BEGIN:VTIMEZONE
TZID:America/New_York
BEGIN:DAYLIGHT
TZOFFSETFROM:-0500
TZOFFSETTO:-0400
TZNAME:EDT
DTSTART:20220313T070000
END:DAYLIGHT
BEGIN:STANDARD
TZOFFSETFROM:-0400
TZOFFSETTO:-0500
TZNAME:EST
DTSTART:20221106T060000
END:STANDARD
BEGIN:DAYLIGHT
TZOFFSETFROM:-0500
TZOFFSETTO:-0400
TZNAME:EDT
DTSTART:20230312T070000
END:DAYLIGHT
BEGIN:STANDARD
TZOFFSETFROM:-0400
TZOFFSETTO:-0500
TZNAME:EST
DTSTART:20231105T060000
END:STANDARD
BEGIN:DAYLIGHT
TZOFFSETFROM:-0500
TZOFFSETTO:-0400
TZNAME:EDT
DTSTART:20240310T070000
END:DAYLIGHT
BEGIN:STANDARD
TZOFFSETFROM:-0400
TZOFFSETTO:-0500
TZNAME:EST
DTSTART:20241103T060000
END:STANDARD
END:VTIMEZONE
BEGIN:VEVENT
DTSTART;TZID=America/New_York:20230428T080000
DTEND;TZID=America/New_York:20230503T170000
DTSTAMP:20260422T070720
CREATED:20230317T031206Z
LAST-MODIFIED:20230317T031558Z
UID:34859-1682668800-1683133200@www.jsmw.org
SUMMARY:Adiveer Kalpataru Jinalay - Panch Kalyanak Mahotsav
DESCRIPTION:We are very pleased to announce the Panch Kalyanak Pratishtha of our JSMW Adinath Temple Murtis under the auspices of Munishri 108 Aditya Sagarji Maharaj. \nThe event will be held from Fri\, April 28 to Wed\, May 3\, 2023 in Indore\, India\, in conjunction with the Aadiveer Kalpataru Jinalaya. \nWe cordially invite you and your family in US\, India and worldwide to grace this historic event with your presence. \nFor more information\, contact Sushil Jain (+1 240-277-3039) or Pavan Zaveri (+1 240-606-0055 or pavanzaveri@yahoo.com).\nFor regular updates and more information\, please visit: https://www.jsmw.org/adiveer-kalpataru-jinalay/
URL:https://www.jsmw.org/event/adiveer-kalpataru-jinalay-panch-kalyanak-mahotsav/
END:VEVENT
END:VCALENDAR