



BEGIN:VCALENDAR
VERSION:2.0
PRODID:-//JSMW - ECPv6.15.20//NONSGML v1.0//EN
CALSCALE:GREGORIAN
METHOD:PUBLISH
X-WR-CALNAME:JSMW
X-ORIGINAL-URL:https://www.jsmw.org
X-WR-CALDESC:Events for JSMW
REFRESH-INTERVAL;VALUE=DURATION:PT1H
X-Robots-Tag:noindex
X-PUBLISHED-TTL:PT1H
BEGIN:VTIMEZONE
TZID:America/New_York
BEGIN:DAYLIGHT
TZOFFSETFROM:-0500
TZOFFSETTO:-0400
TZNAME:EDT
DTSTART:20180311T070000
END:DAYLIGHT
BEGIN:STANDARD
TZOFFSETFROM:-0400
TZOFFSETTO:-0500
TZNAME:EST
DTSTART:20181104T060000
END:STANDARD
BEGIN:DAYLIGHT
TZOFFSETFROM:-0500
TZOFFSETTO:-0400
TZNAME:EDT
DTSTART:20190310T070000
END:DAYLIGHT
BEGIN:STANDARD
TZOFFSETFROM:-0400
TZOFFSETTO:-0500
TZNAME:EST
DTSTART:20191103T060000
END:STANDARD
BEGIN:DAYLIGHT
TZOFFSETFROM:-0500
TZOFFSETTO:-0400
TZNAME:EDT
DTSTART:20200308T070000
END:DAYLIGHT
BEGIN:STANDARD
TZOFFSETFROM:-0400
TZOFFSETTO:-0500
TZNAME:EST
DTSTART:20201101T060000
END:STANDARD
END:VTIMEZONE
BEGIN:VEVENT
DTSTART;TZID=America/New_York:20190811T123000
DTEND;TZID=America/New_York:20190811T190000
DTSTAMP:20260420T182213
CREATED:20190722T132203Z
LAST-MODIFIED:20190722T132203Z
UID:5238-1565526600-1565550000@www.jsmw.org
SUMMARY:30th Anniversary Mahotsav- Arhad Abhishek Mahapujan
DESCRIPTION:             \n  \nOur Sakal Sangh is invited to JSMW’s 30th Anniversary Mahotsav and Arhad Abhishek Mahapujan with Shri Nirmal Sagarji. \nMahapujan will start at 12.39 pm sharp and will be followed by Swamivatsalya.  \nWe request everyone to mark their calendars and participate in the celebrations.   \n  \n  \nPlease take Labh of Abhishek and various other labhs at this ancient and auspicious poojan.  \nhttps://docs.google.com/spreadsheets/d/1bVWNtXt001oK0xlMiQvZRohXnZgLjJgPG1EX-PzScRs/edit?usp=sharing \nWe are looking for sponsors for dinner\, any amount is fine.  Aangi will be done on August 11th and sponsorship is available.  \n  \nWhat is Arhad Abhishekh Mahapujan.\nOne thousand years ago\, one of the most revered\, knowledgeable Siddhapurush Jainacharya Shree Vaadivetaal Shaanti Suriji Maharaj Saheb developed “Shree Arhad Abhisekh Vidhi” Granth on the basis of the old scriptures.\nThis Mahapujan of the great Tirthankar is very powerful in summoning good karmas for our Ayushya and Yashnam karma. This pujan becomes the reason for us to become victorious\, gather wealth and content in life. It also becomes the reason which leads us to have deep faith and achieve Samyakatva in our life.\nAt the end of the pujan\, a special kriya is done to calm the negative effects of the planets and to help strengthen the planet’s positive effects in our life. In short\, this Mahapujan is not only great to help us achieve Samyakatva and Moksha\, but it is also great for helping us achieve wealth\, health and peace in the greatest way in this life. \nFor more information please contact: Nimesh.Chheda@gmail.com or call at 410-245-0966 \nWe are looking for volunteers to plan this Mahotsav in following areas – Food\, Parking\, Decorations\, Pujans  \nSwamivatsalya Dinner is sponsored by Shilpaben Ajitbhai Shah \nThis event has concluded.
URL:https://www.jsmw.org/event/30th-anniversary-mahotsav-arhad-abhishek-mahapujan/
LOCATION:Jain Center\, 4241 Ammendale Road\, Beltsville\, MD\, 20705\, United States
GEO:39.1049945;-76.9916225
X-APPLE-STRUCTURED-LOCATION;VALUE=URI;X-ADDRESS=Jain Center 4241 Ammendale Road Beltsville MD 20705 United States;X-APPLE-RADIUS=500;X-TITLE=4241 Ammendale Road:geo:-76.9916225,39.1049945
END:VEVENT
END:VCALENDAR