



BEGIN:VCALENDAR
VERSION:2.0
PRODID:-//JSMW - ECPv6.15.20//NONSGML v1.0//EN
CALSCALE:GREGORIAN
METHOD:PUBLISH
X-WR-CALNAME:JSMW
X-ORIGINAL-URL:https://www.jsmw.org
X-WR-CALDESC:Events for JSMW
REFRESH-INTERVAL;VALUE=DURATION:PT1H
X-Robots-Tag:noindex
X-PUBLISHED-TTL:PT1H
BEGIN:VTIMEZONE
TZID:America/New_York
BEGIN:DAYLIGHT
TZOFFSETFROM:-0500
TZOFFSETTO:-0400
TZNAME:EDT
DTSTART:20210314T070000
END:DAYLIGHT
BEGIN:STANDARD
TZOFFSETFROM:-0400
TZOFFSETTO:-0500
TZNAME:EST
DTSTART:20211107T060000
END:STANDARD
BEGIN:DAYLIGHT
TZOFFSETFROM:-0500
TZOFFSETTO:-0400
TZNAME:EDT
DTSTART:20220313T070000
END:DAYLIGHT
BEGIN:STANDARD
TZOFFSETFROM:-0400
TZOFFSETTO:-0500
TZNAME:EST
DTSTART:20221106T060000
END:STANDARD
BEGIN:DAYLIGHT
TZOFFSETFROM:-0500
TZOFFSETTO:-0400
TZNAME:EDT
DTSTART:20230312T070000
END:DAYLIGHT
BEGIN:STANDARD
TZOFFSETFROM:-0400
TZOFFSETTO:-0500
TZNAME:EST
DTSTART:20231105T060000
END:STANDARD
END:VTIMEZONE
BEGIN:VEVENT
DTSTART;TZID=America/New_York:20220724T163000
DTEND;TZID=America/New_York:20220724T180000
DTSTAMP:20260420T072152
CREATED:20220712T024128Z
LAST-MODIFIED:20251212T211506Z
UID:31155-1658680200-1658685600@www.jsmw.org
SUMMARY:Lecture by Saman Shri Shrutpragyaji
DESCRIPTION:Lecture by Saman Shri Shrutpragyaji\nTopic:- \nVivek Dhamma Maiye – Vivek ej dharm chhe\nLanguage :- Hindi or Gujarati based on RSVP\n\nIf anybody likes to offer gochari to Samanji can bring food to offer and/or serve.\nFor RSVP\, gochari and potluck please contact Arti Choxi.\nContact:- Cell No:- 240-418-0360\nEmail:- a_choxi@yahoo.com \n\n\n\n\n\nAbout The Speaker\n\n\n\n\nSaman Shri Shrutpragyaji is one of the most articulate and charismatic young spiritual leaders of the new generation. He was born in Bhuj- Kutch\, December 1966. Completed his education in Psychology\, Jainism and Yoga Science\, At a tender age of 20\, he entered Saman’s Life. He has traveled many countries\, worldwide\, to name a few\, Australia\, England\, Japan\, Malaysia\, Russia\, South Africa\, Singapore\, U.S.A. Etc. Visited many prominent Universities like Oxford\, Cambridge\, London\, Hawaii and Berkeley and has conducted thousands of Yoga and Meditation seminars. \nSamanji’s teachings integrate ancient scriptures and modern science which validate our day to day experience and knowledge. Samanji is highly knowledgeable on the subject of how to apply the principles in daily life. His eloquent speaking style keeps you fully engaged on the topic and makes understanding easy. The message is pure and simple and I’m confident that all age groups will find this valuable. Saman ji speaks effortlessly and makes Spiritual knowledge and its core principles accessible in today’s world. \nSaman Shri Shrutpragya has established the “Peace of Mind Foundation” in Rajkot\, Gujarat and the “Peace of Mind Yogic Center” in USA. He has written more than 77 books such as Living Meditation\, A light unto yourself\, Home itself the heaven and many more.
URL:https://www.jsmw.org/event/20220711_lecture/
LOCATION:Jain Center\, 4241 Ammendale Road\, Beltsville\, MD\, 20705\, United States
GEO:39.1049945;-76.9916225
X-APPLE-STRUCTURED-LOCATION;VALUE=URI;X-ADDRESS=Jain Center 4241 Ammendale Road Beltsville MD 20705 United States;X-APPLE-RADIUS=500;X-TITLE=4241 Ammendale Road:geo:-76.9916225,39.1049945
END:VEVENT
END:VCALENDAR